BEGIN:VCALENDAR
METHOD:PUBLISH
VERSION:2.0
CALSCALE:GREGORIAN
PRODID:-//NONSGML Sandhills Development\, LLC//NONSGML Sugar Calendar Fe
 eds v3.8.2//EN
X-WR-CALNAME:Blues and Burlesque Beats
X-WR-CALDESC:Salamanca Arts Centre
X-WR-TIMEZONE:Australia/Hobart
BEGIN:VTIMEZONE
TZID:Australia/Hobart
BEGIN:STANDARD
TZOFFSETFROM:+1100
TZOFFSETTO:+1000
DTSTART:20250405T160000
TZNAME:AEST
END:STANDARD
END:VTIMEZONE
BEGIN:VTIMEZONE
TZID:Australia/Hobart
BEGIN:STANDARD
TZOFFSETFROM:+1100
TZOFFSETTO:+1000
DTSTART:20250405T160000
TZNAME:AEST
END:STANDARD
END:VTIMEZONE
BEGIN:VEVENT
SUMMARY:Blues and Burlesque Beats
DESCRIPTION:Presented by Miss Kitty's Meow\n\n\n\nPerformances:Saturday 
 2 August 2025 @ 6:30pmSunday 3 August 2025 @ 6:30pm\n\n\n\nDoors Open 6:
 00pm | Performance from 6:30pm\n\n\n\nDuration: 90 minutes&nbsp\;(includ
 es interval)\n\n\n\nGet ready to experience an electrifying evening of m
 usic and burlesque entertainment with Blues and Burlesque Beats – fe
 aturing live music from Sam &amp\; the 78s! \n\n\n\nComplementing the 
 sultry tunes of blues music will be mesmerizing burlesque acts that show
 case the art of seduction and tease.&nbsp\;\n\n\n\nOur talented performe
 rs will grace the stage\, enchanting the audience with their elegance\, 
 grace\, and creativity.\n\n\n\nFrom classic fan dances to daring bump an
 d grind numbers\, this unique combination of blues and burlesque genres 
 promises to captivate and delight audiences.\n\n\n\nTickets:$33 SAC Memb
 ers$35 Concession$45 General admission$65 VIP\n\n\n\n**This Event is Rec
 ommended for 18+ audienceIncludes partial nudity and implied nudity\n\n\
 n\n\nBook Now\n\n\n\n\n\n\nAccessibility\n\n\n\nAccessible ToiletRegiste
 red Assistance Animals welcomeWheelchair AccessibleCompanion Card
URL;VALUE=URI:https://www.sac.org.au/events/blues-and-burlesque-beats/
UID:urn:uuid:33bbc7ed-c474-48ca-9cda-635240ec6d75
STATUS:CONFIRMED
ORGANIZER:
DTSTAMP:20260425T233624Z
DTSTART;VALUE=DATE:20250802
DTEND;VALUE=DATE:20250803
END:VEVENT
END:VCALENDAR