BEGIN:VCALENDAR
METHOD:PUBLISH
VERSION:2.0
CALSCALE:GREGORIAN
PRODID:-//NONSGML Sandhills Development\, LLC//NONSGML Sugar Calendar Fe
 eds v3.8.2//EN
X-WR-CALNAME:Art From Trash 2025
X-WR-CALDESC:Salamanca Arts Centre
X-WR-TIMEZONE:Australia/Hobart
BEGIN:VTIMEZONE
TZID:Australia/Hobart
BEGIN:STANDARD
TZOFFSETFROM:+1100
TZOFFSETTO:+1000
DTSTART:20250405T160000
TZNAME:AEST
END:STANDARD
END:VTIMEZONE
BEGIN:VTIMEZONE
TZID:Australia/Hobart
BEGIN:STANDARD
TZOFFSETFROM:+1100
TZOFFSETTO:+1000
DTSTART:20250405T160000
TZNAME:AEST
END:STANDARD
END:VTIMEZONE
BEGIN:VEVENT
SUMMARY:Art From Trash 2025
DESCRIPTION:Presented by Resource Work Cooperative\n\n\n\nOpening Event:
 Friday 18 July 2025\, 6:00pm – 8:00pm\n\n\n\nOpening Hours:10:00am –
  4:00pm daily\n\n\n\nJoin us once again for the unstoppable force that i
 s Art From Trash! One of the largest community exhibitions in Tasmania
 \, AFT explores every possible aspect of creative re-use\, displaying an
  incredible range of talent from a range of artists from every walk of l
 ife.\n\n\n\nArt From Trash&nbsp\;is an annual exhibition that encourages
  the reuse of discarded materials in the production of amazing visual ar
 t.\n\n\n\nEstablished in 1993\, the&nbsp\;Art From Trash&nbsp\;exhibitio
 n has become an iconic and much loved exposé of creativity. Attracting 
 over 120 artists and 5000 visitors annually\, this event has proved itse
 lf as a powerful and much needed change agent for a better future.\n\n\n
 \nMakers of all ages\, styles and stages\, from emerging talent to estab
 lished practitioners\, schools and community groups exhibit alongside ea
 ch other in an exhibition of increasingly accomplished and thought-provo
 king works of art.\n\n\n\nHeld in the historic precinct of Salamanca in 
 the Salamanca Arts Centre’s&nbsp\;Long Gallery\, this exhibition is fo
 r everyone.\n\n\n\n\n\nAccessibility\n\n\n\nAccessible ToiletRegistered 
 Assistance Animals welcomeWheelchair AccessibleCompanion Card
URL;VALUE=URI:https://www.sac.org.au/events/art-from-trash-2025/
UID:urn:uuid:f3978e97-c7d0-4e16-a365-9e1e3fb3ae23
STATUS:CONFIRMED
ORGANIZER:
DTSTAMP:20260419T125941Z
DTSTART;VALUE=DATE:20250719
DTEND;VALUE=DATE:20250727
LOCATION:Salamanca Arts Centre
END:VEVENT
END:VCALENDAR